BEGIN:VCALENDAR
VERSION:2.0
PRODID:-//Mexy - ECPv6.15.20//NONSGML v1.0//EN
CALSCALE:GREGORIAN
METHOD:PUBLISH
X-ORIGINAL-URL:https://mairie-de-mexy.fr
X-WR-CALDESC:Évènements pour Mexy
REFRESH-INTERVAL;VALUE=DURATION:PT1H
X-Robots-Tag:noindex
X-PUBLISHED-TTL:PT1H
BEGIN:VTIMEZONE
TZID:Europe/Paris
BEGIN:DAYLIGHT
TZOFFSETFROM:+0100
TZOFFSETTO:+0200
TZNAME:CEST
DTSTART:20240331T010000
END:DAYLIGHT
BEGIN:STANDARD
TZOFFSETFROM:+0200
TZOFFSETTO:+0100
TZNAME:CET
DTSTART:20241027T010000
END:STANDARD
BEGIN:DAYLIGHT
TZOFFSETFROM:+0100
TZOFFSETTO:+0200
TZNAME:CEST
DTSTART:20250330T010000
END:DAYLIGHT
BEGIN:STANDARD
TZOFFSETFROM:+0200
TZOFFSETTO:+0100
TZNAME:CET
DTSTART:20251026T010000
END:STANDARD
BEGIN:DAYLIGHT
TZOFFSETFROM:+0100
TZOFFSETTO:+0200
TZNAME:CEST
DTSTART:20260329T010000
END:DAYLIGHT
BEGIN:STANDARD
TZOFFSETFROM:+0200
TZOFFSETTO:+0100
TZNAME:CET
DTSTART:20261025T010000
END:STANDARD
END:VTIMEZONE
BEGIN:VEVENT
DTSTART;TZID=Europe/Paris:20250421T100000
DTEND;TZID=Europe/Paris:20250421T120000
DTSTAMP:20260420T065828
CREATED:20250416T071218Z
LAST-MODIFIED:20250416T071218Z
UID:235792-1745229600-1745236800@mairie-de-mexy.fr
SUMMARY:[Lundi 21 avril 2025] Chasse aux œufs.
DESCRIPTION:🪺🪺Chasse aux œufs 🪺🪺 \norganisé par le comité des fêtes & Jeunes en Action  \n📍Lundi 21 avril 2025 de 10h à 12h au city stade.  \nChasse ouverte aux enfants de la commune et des école de Mexy jusqu’à 12 ans.  \n✅Participation de 2€. \n🍫Chocolats offerts à tous les participants.  \n🧇☕Café\, crêpes & gaufres en vente sur place.  \n🍽️Barbecue selon la météo. 
URL:https://mairie-de-mexy.fr/evenement/lundi-21-avril-2025-chasse-aux-oeufs/
LOCATION:City Stade\, rue Jean Bouin\, Mexy\, 54135
CATEGORIES:agenda
ATTACH;FMTTYPE=image/png:https://mairie-de-mexy.fr/wp-content/uploads/chasse.png
END:VEVENT
BEGIN:VEVENT
DTSTART;TZID=Europe/Paris:20250425T093000
DTEND;TZID=Europe/Paris:20250425T123000
DTSTAMP:20260420T065828
CREATED:20250416T071820Z
LAST-MODIFIED:20250416T071820Z
UID:235795-1745573400-1745584200@mairie-de-mexy.fr
SUMMARY:[ Samedi 26 avril 2025 ] Repair Café.
DESCRIPTION:L’Agglomération du Grand Longwy et la commune de Mexy  \nsont heureux de vous inviter au prochain Repair Café ! \n📅 Date : Samedi 26 Avril 2025        \n🕘 Heure : de 9h30 à 12h30\n📍 Lieu : Salle Émeraude  – 2 rue Kislowski \nCe qui vous attend :  \n🔌Atelier réparation : Petits appareils électriques ou électronique capricieux ? Les bricoleurs bénévoles sont là pour les remettre sur pied !  \n🧵Atelier couture : Bouton perdu ? Couture décousue ? L’Association lexéenne de loisirs créatifs vous aide à tout remettre en ordre !  \n🍂Atelier compost (nouveauté !) : Apprenez à  transformer vos déchets avec Cécile\, intervenante des biodéchets !  \n✅L’entrée est libre et gratuite\, alors n’hésitez pas à en parler autour de vous. \nEn espérant vous voir nombreux pour cette matinée conviviale de partage et de réparation ! \nSi vous êtes brioleur dans l’âme\, venez donner un coup de main : l’équipe du Repair Café recrute des bénévoles réparateurs ! 
URL:https://mairie-de-mexy.fr/evenement/samedi-26-avril-2025-repair-cafe/
LOCATION:Salle Emeraude\, rue Kislowski\, Mexy\, 54135
CATEGORIES:agenda
END:VEVENT
BEGIN:VEVENT
DTSTART;TZID=Europe/Paris:20250426T080000
DTEND;TZID=Europe/Paris:20250426T180000
DTSTAMP:20260420T065828
CREATED:20250404T123215Z
LAST-MODIFIED:20250404T123216Z
UID:235773-1745654400-1745690400@mairie-de-mexy.fr
SUMMARY:[ Samedi 26 avril 2025 ] Blindtest Musical
DESCRIPTION:🎶3ème Édition – BLINDTEST Musical🎶 \norganisé par le FC MEXY. \nSamedi 26 avril 2025  \nouverture des portes 18h00 \nSalle des fêtes « René Martini » \nBuvette & restauration sur place. 
URL:https://mairie-de-mexy.fr/evenement/samedi-26-avril-2025-blindtest-musical/
LOCATION:Salle des fêtes « René Martini »\, 9\, rue Lorraine\, MEXY\, 54135\, France
CATEGORIES:agenda
ATTACH;FMTTYPE=image/jpeg:https://mairie-de-mexy.fr/wp-content/uploads/BLIND.jpeg
END:VEVENT
BEGIN:VEVENT
DTSTART;TZID=Europe/Paris:20250427T160000
DTEND;TZID=Europe/Paris:20250427T170000
DTSTAMP:20260420T065828
CREATED:20250422T150043Z
LAST-MODIFIED:20250422T150043Z
UID:235816-1745769600-1745773200@mairie-de-mexy.fr
SUMMARY:[ Dimanche 27 avril ] Une rose\, un espoir. 🌹🌹
DESCRIPTION:Une rose\, un espoir – 28ème édition.  \nLes motards seront présents sur la commune\,  \nDimanche 27 avril 2025 à 16h00  \nCity Stade  \nUne rose en échange d’un don de 2€ (minimum) pour aider la lutte contre le cancer.  \n 
URL:https://mairie-de-mexy.fr/evenement/dimanche-27-avril-une-rose-un-espoir-%f0%9f%8c%b9%f0%9f%8c%b9/
LOCATION:City Stade\, rue Jean Bouin\, Mexy\, 54135
ATTACH;FMTTYPE=image/jpeg:https://mairie-de-mexy.fr/wp-content/uploads/MEXY.jpg
END:VEVENT
END:VCALENDAR